BEGIN:VCALENDAR
VERSION:2.0
PRODID:-//eventon.com NONSGML v1.0//EN
BEGIN:VEVENT
UID:69e5e208a567f
DTSTAMP:20260420T082128
DTSTART:20190410T183000Z
DTEND:20190410T235900Z
LOCATION:- Brimsmore Gardens Tintinhull Road\,  Yeovil\,  Somerset
SUMMARY:Long Sutton Gardening Club
DESCRIPTION: Long Sutton Gardening Club
END:VEVENT
END:VCALENDAR