BEGIN:VCALENDAR
VERSION:2.0
PRODID:-//eventon.com NONSGML v1.0//EN
BEGIN:VEVENT
UID:69e73931389c6
DTSTAMP:20260421T084537
DTSTART:20190314T193000Z
DTEND:20190314T210000Z
LOCATION:Queen Camel and District Horticultural Society Queen Camel Memorial Hall
SUMMARY:Garden Club talk
DESCRIPTION: Garden Club talk
END:VEVENT
END:VCALENDAR