BEGIN:VCALENDAR
VERSION:2.0
PRODID:-//eventon.com NONSGML v1.0//EN
BEGIN:VEVENT
UID:69e7391f5aca6
DTSTAMP:20260421T084519
DTSTART:20190723T160000Z
DTEND:20190723T210000Z
LOCATION:- Castle Gardens New Road\,  Sherborne\,  Dorset
SUMMARY:Private event
DESCRIPTION: Private event
END:VEVENT
END:VCALENDAR