BEGIN:VCALENDAR
VERSION:2.0
PRODID:-//eventon.com NONSGML v1.0//EN
BEGIN:VEVENT
UID:69e73bc744a74
DTSTAMP:20260421T085639
DTSTART:20200108T140000Z
DTEND:20200108T150000Z
LOCATION:Martock and District U3A Martock Village Hall
SUMMARY:Garden Club talk
DESCRIPTION: Garden Club talk
END:VEVENT
END:VCALENDAR