BEGIN:VCALENDAR
VERSION:2.0
PRODID:-//eventon.com NONSGML v1.0//EN
BEGIN:VEVENT
UID:69e73c1aaf1e3
DTSTAMP:20260421T085802
DTSTART:20191107T144500Z
DTEND:20191107T160000Z
LOCATION:Hinton St George and District Gardening Club St Georges Hall
SUMMARY:Garden club talk
DESCRIPTION: Garden club talk
END:VEVENT
END:VCALENDAR