BEGIN:VCALENDAR
VERSION:2.0
PRODID:-//eventon.com NONSGML v1.0//EN
BEGIN:VEVENT
UID:69e5f33d927d0
DTSTAMP:20260420T093453
DTSTART:20260423T180000Z
DTEND:20260423T200000Z
LOCATION:- Poundbury Gardens Peverell Ave.\,  Poundbury\,  Dorset
SUMMARY:Broadwey\,  Upwey & District Horticultural Society
DESCRIPTION: Broadwey\,  Upwey & District Horticultural Society
END:VEVENT
END:VCALENDAR