BEGIN:VCALENDAR
VERSION:2.0
PRODID:-//eventon.com NONSGML v1.0//EN
BEGIN:VEVENT
UID:69e5f330cc916
DTSTAMP:20260420T093440
DTSTART:20260422T193000Z
DTEND:20260422T210000Z
LOCATION:Sturminster Newton Garden Club The Exchange
SUMMARY:Garden club talk
DESCRIPTION: Garden club talk
END:VEVENT
END:VCALENDAR