BEGIN:VCALENDAR
VERSION:2.0
PRODID:-//eventon.com NONSGML v1.0//EN
BEGIN:VEVENT
UID:69e4d2948dd8e
DTSTAMP:20260419T130316
DTSTART:20260420T180000Z
DTEND:20260420T200000Z
LOCATION:- Castle Gardens New Road\,  Sherborne\,  Dorset
SUMMARY:Chetnole and Leigh Garden Club
DESCRIPTION: Chetnole and Leigh Garden Club
END:VEVENT
END:VCALENDAR