BEGIN:VCALENDAR
VERSION:2.0
PRODID:-//eventon.com NONSGML v1.0//EN
BEGIN:VEVENT
UID:69e5f3ecea051
DTSTAMP:20260420T093748
DTSTART:20260421T180000Z
DTEND:20260421T200000Z
LOCATION:- Castle Gardens New Road\,  Sherborne\,  Dorset
SUMMARY:Charlton Horethorne & District Gardening Club
DESCRIPTION: Charlton Horethorne & District Gardening Club
END:VEVENT
END:VCALENDAR