BEGIN:VCALENDAR
VERSION:2.0
PRODID:-//eventon.com NONSGML v1.0//EN
BEGIN:VEVENT
UID:69e88964e66eb
DTSTAMP:20260422T084004
DTSTART:20260422T180000Z
DTEND:20260422T200000Z
LOCATION:- Castle Gardens New Road\,  Sherborne\,  Dorset
SUMMARY:Hazelbury Bryan Gardening Club
DESCRIPTION: Hazelbury Bryan Gardening Club
END:VEVENT
END:VCALENDAR