BEGIN:VCALENDAR
VERSION:2.0
PRODID:-//eventon.com NONSGML v1.0//EN
BEGIN:VEVENT
UID:69e5f3453321a
DTSTAMP:20260420T093501
DTSTART:20260421T193000Z
DTEND:20260421T210000Z
LOCATION:Shillingstone Gardening Club Portman Hall
SUMMARY:Garden Club Talk
DESCRIPTION: Garden Club Talk
END:VEVENT
END:VCALENDAR