BEGIN:VCALENDAR
VERSION:2.0
PRODID:-//eventon.com NONSGML v1.0//EN
BEGIN:VEVENT
UID:69e5f3d9e6976
DTSTAMP:20260420T093729
DTSTART:20260427T180000Z
DTEND:20260427T200000Z
LOCATION:- Castle Gardens New Road\,  Sherborne\,  Dorset
SUMMARY:Iwerne Minster Produce & Horticultural Association
DESCRIPTION: Iwerne Minster Produce & Horticultural Association
END:VEVENT
END:VCALENDAR