BEGIN:VCALENDAR
VERSION:2.0
PRODID:-//eventon.com NONSGML v1.0//EN
BEGIN:VEVENT
UID:69e5f38b8d425
DTSTAMP:20260420T093611
DTSTART:20260421T140000Z
DTEND:20260421T160000Z
LOCATION:Owermoigne Flower Club Owermoigne Village Hall\,  DT2 8XD
SUMMARY:Garden Club Talk
DESCRIPTION: Garden Club Talk
END:VEVENT
END:VCALENDAR