BEGIN:VCALENDAR
VERSION:2.0
PRODID:-//eventon.com NONSGML v1.0//EN
BEGIN:VEVENT
UID:69e5f3d9e6666
DTSTAMP:20260420T093729
DTSTART:20260423T143000Z
DTEND:20260423T160000Z
LOCATION:- Castle Gardens New Road\,  Sherborne\,  Dorset
SUMMARY:Bockhampton & District Horticultural Society
DESCRIPTION: Bockhampton & District Horticultural Society
END:VEVENT
END:VCALENDAR