BEGIN:VCALENDAR
VERSION:2.0
PRODID:-//eventon.com NONSGML v1.0//EN
BEGIN:VEVENT
UID:69e5f3df955f2
DTSTAMP:20260420T093735
DTSTART:20260428T190000Z
DTEND:20260428T210000Z
LOCATION:Hinton St George and District Gardening Club St Georges Hall
SUMMARY:Garden Club Talk
DESCRIPTION: Garden Club Talk
END:VEVENT
END:VCALENDAR