BEGIN:VCALENDAR
VERSION:2.0
PRODID:-//eventon.com NONSGML v1.0//EN
BEGIN:VEVENT
UID:69e74018102f2
DTSTAMP:20260421T091504
DTSTART:20260309T143000Z
DTEND:20260309T160000Z
LOCATION:- Castle Gardens New Road\,  Sherborne\,  Dorset
SUMMARY:Shaftesbury & Gillingham U3A
DESCRIPTION: Shaftesbury & Gillingham U3A
END:VEVENT
END:VCALENDAR