BEGIN:VCALENDAR
VERSION:2.0
PRODID:-//eventon.com NONSGML v1.0//EN
BEGIN:VEVENT
UID:69e5f3772f8e0
DTSTAMP:20260420T093551
DTSTART:20260423T180000Z
DTEND:20260423T200000Z
LOCATION:- Castle Gardens New Road\,  Sherborne\,  Dorset
SUMMARY:West Coker Gardening Club
DESCRIPTION: West Coker Gardening Club
END:VEVENT
END:VCALENDAR