BEGIN:VCALENDAR
VERSION:2.0
PRODID:-//eventon.com NONSGML v1.0//EN
BEGIN:VEVENT
UID:69e5f39ea4389
DTSTAMP:20260420T093630
DTSTART:20260427T180000Z
DTEND:20260427T200000Z
LOCATION:- Brimsmore Gardens Tintinhull Road\,  Yeovil\,  Somerset
SUMMARY:West Pennard Gardening Club
DESCRIPTION: West Pennard Gardening Club
END:VEVENT
END:VCALENDAR