BEGIN:VCALENDAR
VERSION:2.0
PRODID:-//eventon.com NONSGML v1.0//EN
BEGIN:VEVENT
UID:69e5f38b7326c
DTSTAMP:20260420T093611
DTSTART:20260429T193000Z
DTEND:20260429T210000Z
LOCATION:Melbury Osmond Garden and Show Society Melbury Osmund Village Hall
SUMMARY:Garden Club Talk
DESCRIPTION: Garden Club Talk
END:VEVENT
END:VCALENDAR