BEGIN:VCALENDAR
VERSION:2.0
PRODID:-//eventon.com NONSGML v1.0//EN
BEGIN:VEVENT
UID:69e5f345289a3
DTSTAMP:20260420T093501
DTSTART:20260422T180000Z
DTEND:20260422T200000Z
LOCATION:- Brimsmore Gardens Tintinhull Road\,  Yeovil\,  Somerset
SUMMARY:Martock and District U3A
DESCRIPTION: Martock and District U3A
END:VEVENT
END:VCALENDAR