BEGIN:VCALENDAR
VERSION:2.0
PRODID:-//eventon.com NONSGML v1.0//EN
BEGIN:VEVENT
UID:69e5f3771de2b
DTSTAMP:20260420T093551
DTSTART:20260423T180000Z
DTEND:20260423T200000Z
LOCATION:- Castle Gardens New Road\,  Sherborne\,  Dorset
SUMMARY:Motcombe Gardening Club
DESCRIPTION: Motcombe Gardening Club
END:VEVENT
END:VCALENDAR