BEGIN:VCALENDAR
VERSION:2.0
PRODID:-//eventon.com NONSGML v1.0//EN
BEGIN:VEVENT
UID:69e73979d2322
DTSTAMP:20260421T084649
DTSTART:20260420T110000Z
DTEND:20260420T140000Z
LOCATION:- Castle Gardens New Road\,  Sherborne\,  Dorset
SUMMARY:Private Event
DESCRIPTION: Private Event
END:VEVENT
END:VCALENDAR