BEGIN:VCALENDAR
VERSION:2.0
PRODID:-//eventon.com NONSGML v1.0//EN
BEGIN:VEVENT
UID:69e5f3df98b6d
DTSTAMP:20260420T093735
DTSTART:20260422T193000Z
DTEND:20260422T210000Z
LOCATION:Stoke sub Hamdon Gardening Club Memorial Hall
SUMMARY:Coping With Too Much Water: A Talk by Sally Morgan to Stoke Sub Hamdon Gardening Club
DESCRIPTION: Coping With Too Much Water: A Talk by Sally Morgan to Stoke Sub Hamdon Gardening Club
END:VEVENT
END:VCALENDAR