BEGIN:VCALENDAR
VERSION:2.0
PRODID:-//eventon.com NONSGML v1.0//EN
BEGIN:VEVENT
UID:69e5f3ecd4eb2
DTSTAMP:20260420T093748
DTSTART:20260425T100000Z
DTEND:20260425T120000Z
LOCATION:Stoke sub Hamdon Gardening Club Memorial Hall
SUMMARY:Plant Sale at Stoke Sub Hamdon Gardening Club
DESCRIPTION: Plant Sale at Stoke Sub Hamdon Gardening Club
END:VEVENT
END:VCALENDAR