BEGIN:VCALENDAR
VERSION:2.0
PRODID:-//eventon.com NONSGML v1.0//EN
BEGIN:VEVENT
UID:69e5f3fb250ca
DTSTAMP:20260420T093803
DTSTART:20260423T103000Z
DTEND:20260423T123000Z
LOCATION:- Castle Gardens New Road\,  Sherborne\,  Dorset
SUMMARY:Private Event
DESCRIPTION: Private Event
END:VEVENT
END:VCALENDAR