BEGIN:VCALENDAR
VERSION:2.0
PRODID:-//eventon.com NONSGML v1.0//EN
BEGIN:VEVENT
UID:69e5f3a3b4061
DTSTAMP:20260420T093635
DTSTART:20260425T143000Z
DTEND:20260425T163000Z
LOCATION:
SUMMARY:The Green Shed Sherborne Launch
DESCRIPTION: The Green Shed Sherborne Launch
END:VEVENT
END:VCALENDAR