BEGIN:VCALENDAR
VERSION:2.0
PRODID:-//eventon.com NONSGML v1.0//EN
BEGIN:VEVENT
UID:69e5f3a3b4514
DTSTAMP:20260420T093635
DTSTART:20260421T100000Z
DTEND:20260421T130000Z
LOCATION:- Castle Gardens New Road\,  Sherborne\,  Dorset
SUMMARY:Private Booking - Butterfly House
DESCRIPTION: Private Booking - Butterfly House
END:VEVENT
END:VCALENDAR